BEGIN:VCALENDAR
VERSION:2.0
PRODID:-//EBSN - ECPv5.1.6//NONSGML v1.0//EN
CALSCALE:GREGORIAN
METHOD:PUBLISH
X-WR-CALNAME:EBSN
X-ORIGINAL-URL:https://basicskills.eu
X-WR-CALDESC:Events for EBSN
BEGIN:VTIMEZONE
TZID:Europe/Budapest
BEGIN:DAYLIGHT
TZOFFSETFROM:+0100
TZOFFSETTO:+0200
TZNAME:CEST
DTSTART:20160327T010000
END:DAYLIGHT
BEGIN:STANDARD
TZOFFSETFROM:+0200
TZOFFSETTO:+0100
TZNAME:CET
DTSTART:20161030T010000
END:STANDARD
END:VTIMEZONE
BEGIN:VEVENT
DTSTART;VALUE=DATE:20161005
DTEND;VALUE=DATE:20161007
DTSTAMP:20260420T085124
CREATED:20160929T094402Z
LAST-MODIFIED:20160929T094504Z
UID:5718-1475625600-1475798399@basicskills.eu
SUMMARY:The Creation and Implementation of National Policy for Basic Skills Provision: online discussion
DESCRIPTION:
URL:https://basicskills.eu/event/the-creation-and-implementation-of-national-policy-for-basic-skills-provision-online-discussion/
LOCATION:Online EPALE
END:VEVENT
END:VCALENDAR