BEGIN:VCALENDAR
VERSION:2.0
PRODID:-//EBSN - ECPv5.1.6//NONSGML v1.0//EN
CALSCALE:GREGORIAN
METHOD:PUBLISH
X-WR-CALNAME:EBSN
X-ORIGINAL-URL:https://basicskills.eu
X-WR-CALDESC:Events for EBSN
BEGIN:VTIMEZONE
TZID:Europe/Budapest
BEGIN:DAYLIGHT
TZOFFSETFROM:+0100
TZOFFSETTO:+0200
TZNAME:CEST
DTSTART:20150329T010000
END:DAYLIGHT
BEGIN:STANDARD
TZOFFSETFROM:+0200
TZOFFSETTO:+0100
TZNAME:CET
DTSTART:20151025T010000
END:STANDARD
END:VTIMEZONE
BEGIN:VEVENT
DTSTART;VALUE=DATE:20150712
DTEND;VALUE=DATE:20150716
DTSTAMP:20260422T104313
CREATED:20150528T115401Z
LAST-MODIFIED:20150528T124235Z
UID:4632-1436659200-1437004799@basicskills.eu
SUMMARY:The 22nd International Conference of Adults Learning Mathematics (ALM)
DESCRIPTION:
URL:https://basicskills.eu/event/the-22nd-international-conference-of-adults-learning-mathematics-alm/
LOCATION:Unnamed Venue\, Washington DC\, WA\, United States
GEO:38.9587651;-77.0635956
END:VEVENT
END:VCALENDAR