BEGIN:VCALENDAR
VERSION:2.0
PRODID:-//EBSN - ECPv5.1.6//NONSGML v1.0//EN
CALSCALE:GREGORIAN
METHOD:PUBLISH
X-WR-CALNAME:EBSN
X-ORIGINAL-URL:https://basicskills.eu
X-WR-CALDESC:Events for EBSN
BEGIN:VTIMEZONE
TZID:Europe/Budapest
BEGIN:DAYLIGHT
TZOFFSETFROM:+0100
TZOFFSETTO:+0200
TZNAME:CEST
DTSTART:20150329T010000
END:DAYLIGHT
BEGIN:STANDARD
TZOFFSETFROM:+0200
TZOFFSETTO:+0100
TZNAME:CET
DTSTART:20151025T010000
END:STANDARD
END:VTIMEZONE
BEGIN:VEVENT
DTSTART;VALUE=DATE:20150927
DTEND;VALUE=DATE:20151003
DTSTAMP:20260420T051925
CREATED:20150528T120103Z
LAST-MODIFIED:20150528T125136Z
UID:4646-1443312000-1443830399@basicskills.eu
SUMMARY:Social Entrepreneurship
DESCRIPTION:
URL:https://basicskills.eu/event/social-entrepreneurship/
LOCATION:Las Palmas de Gran Canaria\, Spain\, Las Palmas de Gran Canaria\, Spain
GEO:28.1235459;-15.4362574
END:VEVENT
END:VCALENDAR