BEGIN:VCALENDAR
VERSION:2.0
PRODID:-//EBSN - ECPv5.1.6//NONSGML v1.0//EN
CALSCALE:GREGORIAN
METHOD:PUBLISH
X-WR-CALNAME:EBSN
X-ORIGINAL-URL:https://basicskills.eu
X-WR-CALDESC:Events for EBSN
BEGIN:VTIMEZONE
TZID:Europe/Budapest
BEGIN:DAYLIGHT
TZOFFSETFROM:+0100
TZOFFSETTO:+0200
TZNAME:CEST
DTSTART:20150329T010000
END:DAYLIGHT
BEGIN:STANDARD
TZOFFSETFROM:+0200
TZOFFSETTO:+0100
TZNAME:CET
DTSTART:20151025T010000
END:STANDARD
END:VTIMEZONE
BEGIN:VEVENT
DTSTART;VALUE=DATE:20151029
DTEND;VALUE=DATE:20151031
DTSTAMP:20260420T020606
CREATED:20150710T090937Z
LAST-MODIFIED:20150710T090937Z
UID:4954-1446076800-1446249599@basicskills.eu
SUMMARY:Preparing for the future – flexible approaches to adult learning
DESCRIPTION:
URL:https://basicskills.eu/event/preparing-for-the-future-flexible-approaches-to-adult-learning/
LOCATION:University of Hagen (FernUniversität in Hagen)\, Hagen\, Germany
GEO:51.3670777;7.4632841
END:VEVENT
END:VCALENDAR