BEGIN:VCALENDAR
VERSION:2.0
PRODID:-//EBSN - ECPv5.1.6//NONSGML v1.0//EN
CALSCALE:GREGORIAN
METHOD:PUBLISH
X-WR-CALNAME:EBSN
X-ORIGINAL-URL:https://basicskills.eu
X-WR-CALDESC:Events for EBSN
BEGIN:VTIMEZONE
TZID:Europe/Budapest
BEGIN:DAYLIGHT
TZOFFSETFROM:+0100
TZOFFSETTO:+0200
TZNAME:CEST
DTSTART:20150329T010000
END:DAYLIGHT
BEGIN:STANDARD
TZOFFSETFROM:+0200
TZOFFSETTO:+0100
TZNAME:CET
DTSTART:20151025T010000
END:STANDARD
END:VTIMEZONE
BEGIN:VEVENT
DTSTART;VALUE=DATE:20150917
DTEND;VALUE=DATE:20150918
DTSTAMP:20260420T051925
CREATED:20150811T074157Z
LAST-MODIFIED:20150811T074157Z
UID:5002-1442448000-1442534399@basicskills.eu
SUMMARY:Literacy Week Closing Event
DESCRIPTION:
URL:https://basicskills.eu/event/literacy-week-closing-event/
LOCATION:Bronks Youth Theatre\, Rue du Marché aux Porcs\, Brussels\, 1000 \, Belgium
GEO:50.8533134;4.3459796
X-APPLE-STRUCTURED-LOCATION;VALUE=URI;X-ADDRESS=Bronks Youth Theatre Rue du Marché aux Porcs Brussels 1000  Belgium;X-APPLE-RADIUS=500;X-TITLE=Rue du Marché aux Porcs:geo:4.3459796,50.8533134
END:VEVENT
END:VCALENDAR