BEGIN:VCALENDAR
VERSION:2.0
PRODID:-//EBSN - ECPv5.1.6//NONSGML v1.0//EN
CALSCALE:GREGORIAN
METHOD:PUBLISH
X-WR-CALNAME:EBSN
X-ORIGINAL-URL:https://basicskills.eu
X-WR-CALDESC:Events for EBSN
BEGIN:VTIMEZONE
TZID:Europe/Budapest
BEGIN:DAYLIGHT
TZOFFSETFROM:+0100
TZOFFSETTO:+0200
TZNAME:CEST
DTSTART:20150329T010000
END:DAYLIGHT
BEGIN:STANDARD
TZOFFSETFROM:+0200
TZOFFSETTO:+0100
TZNAME:CET
DTSTART:20151025T010000
END:STANDARD
END:VTIMEZONE
BEGIN:VEVENT
DTSTART;VALUE=DATE:20151021
DTEND;VALUE=DATE:20151027
DTSTAMP:20260420T033122
CREATED:20150710T085807Z
LAST-MODIFIED:20150710T085807Z
UID:4939-1445385600-1445903999@basicskills.eu
SUMMARY:Learning in later life providing an intergenerational context
DESCRIPTION:
URL:https://basicskills.eu/event/learning-in-later-life-providing-an-intergenerational-context/
LOCATION:Limassol\, Cyprus\, Limassol\, Cyprus
GEO:34.7071301;33.0226174
END:VEVENT
END:VCALENDAR