BEGIN:VCALENDAR
VERSION:2.0
PRODID:-//EBSN - ECPv5.1.6//NONSGML v1.0//EN
CALSCALE:GREGORIAN
METHOD:PUBLISH
X-WR-CALNAME:EBSN
X-ORIGINAL-URL:https://basicskills.eu
X-WR-CALDESC:Events for EBSN
BEGIN:VTIMEZONE
TZID:Europe/Budapest
BEGIN:DAYLIGHT
TZOFFSETFROM:+0100
TZOFFSETTO:+0200
TZNAME:CEST
DTSTART:20180325T010000
END:DAYLIGHT
BEGIN:STANDARD
TZOFFSETFROM:+0200
TZOFFSETTO:+0100
TZNAME:CET
DTSTART:20181028T010000
END:STANDARD
END:VTIMEZONE
BEGIN:VEVENT
DTSTART;VALUE=DATE:20180305
DTEND;VALUE=DATE:20180308
DTSTAMP:20260422T154939
CREATED:20170811T133450Z
LAST-MODIFIED:20170811T133450Z
UID:6115-1520208000-1520467199@basicskills.eu
SUMMARY:INTED2018 Conference (International Technology\, Education and Development)
DESCRIPTION:
URL:https://basicskills.eu/event/inted2018-conference-international-technology-education-and-development/
LOCATION:Hotel Meliá Valencia\, Avda. Cortes Valencianas\, 52\, Avda. Cortes 52\, Valencia\, Spain
GEO:38.2691348;-6.4744119
X-APPLE-STRUCTURED-LOCATION;VALUE=URI;X-ADDRESS=Hotel Meliá Valencia Avda. Cortes Valencianas 52 Avda. Cortes 52 Valencia Spain;X-APPLE-RADIUS=500;X-TITLE=Avda. Cortes 52:geo:-6.4744119,38.2691348
END:VEVENT
END:VCALENDAR