BEGIN:VCALENDAR
VERSION:2.0
PRODID:-//EBSN - ECPv5.1.6//NONSGML v1.0//EN
CALSCALE:GREGORIAN
METHOD:PUBLISH
X-WR-CALNAME:EBSN
X-ORIGINAL-URL:https://basicskills.eu
X-WR-CALDESC:Events for EBSN
BEGIN:VTIMEZONE
TZID:Europe/Budapest
BEGIN:DAYLIGHT
TZOFFSETFROM:+0100
TZOFFSETTO:+0200
TZNAME:CEST
DTSTART:20170326T010000
END:DAYLIGHT
BEGIN:STANDARD
TZOFFSETFROM:+0200
TZOFFSETTO:+0100
TZNAME:CET
DTSTART:20171029T010000
END:STANDARD
END:VTIMEZONE
BEGIN:VEVENT
DTSTART;VALUE=DATE:20171116
DTEND;VALUE=DATE:20171119
DTSTAMP:20260422T135711
CREATED:20170717T070357Z
LAST-MODIFIED:20170717T070357Z
UID:6108-1510790400-1511049599@basicskills.eu
SUMMARY:ICERI2017 (10th annual International Conference of Education\, Research and Innovation)
DESCRIPTION:
URL:https://basicskills.eu/event/iceri2017-10th-annual-international-conference-of-education-research-and-innovation/
LOCATION:Seville\, Spain\, Seville\, Spain
GEO:37.3890924;-5.9844589
END:VEVENT
END:VCALENDAR