BEGIN:VCALENDAR
VERSION:2.0
PRODID:-//EBSN - ECPv5.1.6//NONSGML v1.0//EN
CALSCALE:GREGORIAN
METHOD:PUBLISH
X-WR-CALNAME:EBSN
X-ORIGINAL-URL:https://basicskills.eu
X-WR-CALDESC:Events for EBSN
BEGIN:VTIMEZONE
TZID:Europe/Budapest
BEGIN:DAYLIGHT
TZOFFSETFROM:+0100
TZOFFSETTO:+0200
TZNAME:CEST
DTSTART:20150329T010000
END:DAYLIGHT
BEGIN:STANDARD
TZOFFSETFROM:+0200
TZOFFSETTO:+0100
TZNAME:CET
DTSTART:20151025T010000
END:STANDARD
END:VTIMEZONE
BEGIN:VEVENT
DTSTART;VALUE=DATE:20150831
DTEND;VALUE=DATE:20150902
DTSTAMP:20260420T065446
CREATED:20150710T082247Z
LAST-MODIFIED:20150710T082247Z
UID:4906-1440979200-1441151999@basicskills.eu
SUMMARY:Erwachsenenbildung digital: Professionalisieren. Vernetzen. Gestalten.
DESCRIPTION:
URL:https://basicskills.eu/event/erwachsenenbildung-digital-professionalisieren-vernetzen-gestalten/
LOCATION:Hotel Aquino\, Hannoversche Straße 5b\, Berlin-Mitte\, 10115 \, Germany
GEO:52.5270875;13.3847291
X-APPLE-STRUCTURED-LOCATION;VALUE=URI;X-ADDRESS=Hotel Aquino Hannoversche Straße 5b Berlin-Mitte 10115  Germany;X-APPLE-RADIUS=500;X-TITLE=Hannoversche Straße 5b:geo:13.3847291,52.5270875
END:VEVENT
END:VCALENDAR