BEGIN:VCALENDAR
VERSION:2.0
PRODID:-//EBSN - ECPv5.1.6//NONSGML v1.0//EN
CALSCALE:GREGORIAN
METHOD:PUBLISH
X-WR-CALNAME:EBSN
X-ORIGINAL-URL:https://basicskills.eu
X-WR-CALDESC:Events for EBSN
BEGIN:VTIMEZONE
TZID:Europe/Budapest
BEGIN:DAYLIGHT
TZOFFSETFROM:+0100
TZOFFSETTO:+0200
TZNAME:CEST
DTSTART:20150329T010000
END:DAYLIGHT
BEGIN:STANDARD
TZOFFSETFROM:+0200
TZOFFSETTO:+0100
TZNAME:CET
DTSTART:20151025T010000
END:STANDARD
END:VTIMEZONE
BEGIN:VEVENT
DTSTART;VALUE=DATE:20150817
DTEND;VALUE=DATE:20150822
DTSTAMP:20260420T034115
CREATED:20150528T115810Z
LAST-MODIFIED:20150528T124751Z
UID:4640-1439769600-1440201599@basicskills.eu
SUMMARY:English on Screen
DESCRIPTION:
URL:https://basicskills.eu/event/english-on-screen/
LOCATION:LTA Solutions Ltd. Forsyth House\, Cromac Square\, Belfast\, United Kingdom
GEO:54.5942129;-5.9245059
X-APPLE-STRUCTURED-LOCATION;VALUE=URI;X-ADDRESS=LTA Solutions Ltd. Forsyth House Cromac Square Belfast United Kingdom;X-APPLE-RADIUS=500;X-TITLE=Cromac Square:geo:-5.9245059,54.5942129
END:VEVENT
END:VCALENDAR