BEGIN:VCALENDAR
VERSION:2.0
PRODID:-//EBSN - ECPv5.1.6//NONSGML v1.0//EN
CALSCALE:GREGORIAN
METHOD:PUBLISH
X-WR-CALNAME:EBSN
X-ORIGINAL-URL:https://basicskills.eu
X-WR-CALDESC:Events for EBSN
BEGIN:VTIMEZONE
TZID:Europe/Budapest
BEGIN:DAYLIGHT
TZOFFSETFROM:+0100
TZOFFSETTO:+0200
TZNAME:CEST
DTSTART:20150329T010000
END:DAYLIGHT
BEGIN:STANDARD
TZOFFSETFROM:+0200
TZOFFSETTO:+0100
TZNAME:CET
DTSTART:20151025T010000
END:STANDARD
END:VTIMEZONE
BEGIN:VEVENT
DTSTART;VALUE=DATE:20150611
DTEND;VALUE=DATE:20150613
DTSTAMP:20260422T234053
CREATED:20150528T112944Z
LAST-MODIFIED:20150528T114906Z
UID:4608-1433980800-1434153599@basicskills.eu
SUMMARY:Digital environments: opportunities and challenges for literacy\, learning and citizenship – The 2015 Summer Institute in Canada
DESCRIPTION:
URL:https://basicskills.eu/event/digital-environments-opportunities-and-challenges-for-literacy-learning-and-citizenship-the-2015-summer-institute-in-canada/
LOCATION:University of Montreal\, Montreal\, Canada
GEO:45.5016889;-73.567256
END:VEVENT
END:VCALENDAR