BEGIN:VCALENDAR
VERSION:2.0
PRODID:-//EBSN - ECPv5.1.6//NONSGML v1.0//EN
CALSCALE:GREGORIAN
METHOD:PUBLISH
X-WR-CALNAME:EBSN
X-ORIGINAL-URL:https://basicskills.eu
X-WR-CALDESC:Events for EBSN
BEGIN:VTIMEZONE
TZID:Europe/Budapest
BEGIN:DAYLIGHT
TZOFFSETFROM:+0100
TZOFFSETTO:+0200
TZNAME:CEST
DTSTART:20160327T010000
END:DAYLIGHT
BEGIN:STANDARD
TZOFFSETFROM:+0200
TZOFFSETTO:+0100
TZNAME:CET
DTSTART:20161030T010000
END:STANDARD
END:VTIMEZONE
BEGIN:VEVENT
DTSTART;VALUE=DATE:20160905
DTEND;VALUE=DATE:20160912
DTSTAMP:20260422T103940
CREATED:20160624T120924Z
LAST-MODIFIED:20160624T120924Z
UID:5631-1473033600-1473638399@basicskills.eu
SUMMARY:De Week van de Alfabetisering
DESCRIPTION:
URL:https://basicskills.eu/event/de-week-van-de-alfabetisering/
LOCATION:The Haag\, Netherlands\, The Haag\, Netherlands
GEO:52.0704978;4.3006999
END:VEVENT
END:VCALENDAR