BEGIN:VCALENDAR
VERSION:2.0
PRODID:-//EBSN - ECPv5.1.6//NONSGML v1.0//EN
CALSCALE:GREGORIAN
METHOD:PUBLISH
X-WR-CALNAME:EBSN
X-ORIGINAL-URL:https://basicskills.eu
X-WR-CALDESC:Events for EBSN
BEGIN:VTIMEZONE
TZID:Europe/Budapest
BEGIN:DAYLIGHT
TZOFFSETFROM:+0100
TZOFFSETTO:+0200
TZNAME:CEST
DTSTART:20150329T010000
END:DAYLIGHT
BEGIN:STANDARD
TZOFFSETFROM:+0200
TZOFFSETTO:+0100
TZNAME:CET
DTSTART:20151025T010000
END:STANDARD
END:VTIMEZONE
BEGIN:VEVENT
DTSTART;VALUE=DATE:20151020
DTEND;VALUE=DATE:20151021
DTSTAMP:20260420T001728
CREATED:20151006T135810Z
LAST-MODIFIED:20151006T135810Z
UID:5071-1445299200-1445385599@basicskills.eu
SUMMARY:Coordination of Continuing Vocational Education and Training as a Tool of Public Employment Services
DESCRIPTION:
URL:https://basicskills.eu/event/coordination-of-continuing-vocational-education-and-training-as-a-tool-of-public-employment-services/
LOCATION:Hotel Noem Arch Brno\, Cimburkova 9\, Brno\, 612 00\, Czech Republic
GEO:49.21909;16.606239
X-APPLE-STRUCTURED-LOCATION;VALUE=URI;X-ADDRESS=Hotel Noem Arch Brno Cimburkova 9 Brno 612 00 Czech Republic;X-APPLE-RADIUS=500;X-TITLE=Cimburkova 9:geo:16.606239,49.21909
END:VEVENT
END:VCALENDAR