BEGIN:VCALENDAR
VERSION:2.0
PRODID:-//EBSN - ECPv5.1.6//NONSGML v1.0//EN
CALSCALE:GREGORIAN
METHOD:PUBLISH
X-WR-CALNAME:EBSN
X-ORIGINAL-URL:https://basicskills.eu
X-WR-CALDESC:Events for EBSN
BEGIN:VTIMEZONE
TZID:Europe/Budapest
BEGIN:DAYLIGHT
TZOFFSETFROM:+0100
TZOFFSETTO:+0200
TZNAME:CEST
DTSTART:20150329T010000
END:DAYLIGHT
BEGIN:STANDARD
TZOFFSETFROM:+0200
TZOFFSETTO:+0100
TZNAME:CET
DTSTART:20151025T010000
END:STANDARD
END:VTIMEZONE
BEGIN:VEVENT
DTSTART;VALUE=DATE:20150618
DTEND;VALUE=DATE:20150619
DTSTAMP:20260422T202319
CREATED:20150528T113203Z
LAST-MODIFIED:20150528T120733Z
UID:4612-1434585600-1434671999@basicskills.eu
SUMMARY:ALT Scotland SIG: Sharing digital practice and policy in Scottish education
DESCRIPTION:
URL:https://basicskills.eu/event/alt-scotland-sig-sharing-digital-practice-and-policy-in-scottish-education/
LOCATION:Glasgow Caledonian University\, Cowcaddens Road\, Glasgow\, G4 0BA\, United Kingdom
GEO:55.8667632;-4.2543094
X-APPLE-STRUCTURED-LOCATION;VALUE=URI;X-ADDRESS=Glasgow Caledonian University Cowcaddens Road Glasgow G4 0BA United Kingdom;X-APPLE-RADIUS=500;X-TITLE=Cowcaddens Road:geo:-4.2543094,55.8667632
END:VEVENT
END:VCALENDAR