BEGIN:VCALENDAR
VERSION:2.0
PRODID:-//EBSN - ECPv5.1.6//NONSGML v1.0//EN
CALSCALE:GREGORIAN
METHOD:PUBLISH
X-WR-CALNAME:EBSN
X-ORIGINAL-URL:https://basicskills.eu
X-WR-CALDESC:Events for EBSN
BEGIN:VTIMEZONE
TZID:Europe/Budapest
BEGIN:DAYLIGHT
TZOFFSETFROM:+0100
TZOFFSETTO:+0200
TZNAME:CEST
DTSTART:20150329T010000
END:DAYLIGHT
BEGIN:STANDARD
TZOFFSETFROM:+0200
TZOFFSETTO:+0100
TZNAME:CET
DTSTART:20151025T010000
END:STANDARD
END:VTIMEZONE
BEGIN:VEVENT
DTSTART;VALUE=DATE:20150908
DTEND;VALUE=DATE:20150911
DTSTAMP:20260420T034944
CREATED:20150710T081601Z
LAST-MODIFIED:20150710T081601Z
UID:4900-1441670400-1441929599@basicskills.eu
SUMMARY:ALT Annual Conference 2015: Shaping the future of learning together
DESCRIPTION:
URL:https://basicskills.eu/event/alt-annual-conference-2015-shaping-the-future-of-learning-together/
LOCATION:The University of Manchester University Place\, Oxford Road\,  Manchester\, M13 9PL\, United Kingdom
GEO:53.4696343;-2.2366187
X-APPLE-STRUCTURED-LOCATION;VALUE=URI;X-ADDRESS=The University of Manchester University Place Oxford Road  Manchester M13 9PL United Kingdom;X-APPLE-RADIUS=500;X-TITLE=Oxford Road:geo:-2.2366187,53.4696343
END:VEVENT
END:VCALENDAR