BEGIN:VCALENDAR
VERSION:2.0
PRODID:-//EBSN - ECPv5.1.6//NONSGML v1.0//EN
CALSCALE:GREGORIAN
METHOD:PUBLISH
X-WR-CALNAME:EBSN
X-ORIGINAL-URL:https://basicskills.eu
X-WR-CALDESC:Events for EBSN
BEGIN:VTIMEZONE
TZID:Europe/Budapest
BEGIN:DAYLIGHT
TZOFFSETFROM:+0100
TZOFFSETTO:+0200
TZNAME:CEST
DTSTART:20160327T010000
END:DAYLIGHT
BEGIN:STANDARD
TZOFFSETFROM:+0200
TZOFFSETTO:+0100
TZNAME:CET
DTSTART:20161030T010000
END:STANDARD
END:VTIMEZONE
BEGIN:VEVENT
DTSTART;VALUE=DATE:20161006
DTEND;VALUE=DATE:20161008
DTSTAMP:20260420T070457
CREATED:20160929T095306Z
LAST-MODIFIED:20160929T095306Z
UID:5736-1475712000-1475884799@basicskills.eu
SUMMARY:AEDIPE - 50th international conference - The Future of Work
DESCRIPTION:
URL:https://basicskills.eu/event/aedipe-50th-international-conference-the-future-of-work/
LOCATION:Pamplona\, Spain\, Pamplona\, Spain
GEO:42.812526;-1.6457745
END:VEVENT
END:VCALENDAR