BEGIN:VCALENDAR
VERSION:2.0
PRODID:-//EBSN - ECPv5.1.6//NONSGML v1.0//EN
CALSCALE:GREGORIAN
METHOD:PUBLISH
X-WR-CALNAME:EBSN
X-ORIGINAL-URL:https://basicskills.eu
X-WR-CALDESC:Events for EBSN
BEGIN:VTIMEZONE
TZID:Europe/Budapest
BEGIN:DAYLIGHT
TZOFFSETFROM:+0100
TZOFFSETTO:+0200
TZNAME:CEST
DTSTART:20170326T010000
END:DAYLIGHT
BEGIN:STANDARD
TZOFFSETFROM:+0200
TZOFFSETTO:+0100
TZNAME:CET
DTSTART:20171029T010000
END:STANDARD
END:VTIMEZONE
BEGIN:VEVENT
DTSTART;VALUE=DATE:20170913
DTEND;VALUE=DATE:20170915
DTSTAMP:20260420T123158
CREATED:20170420T070133Z
LAST-MODIFIED:20170420T070133Z
UID:5924-1505260800-1505433599@basicskills.eu
SUMMARY:Action together against illiteracy - City of Good Practices / Cité des pratiques
DESCRIPTION:
URL:https://basicskills.eu/event/action-together-against-illiteracy-city-of-good-practices-cite-des-pratiques/
LOCATION:Lyon\, France\, Lyon\, France
GEO:45.764043;4.835659
END:VEVENT
END:VCALENDAR