BEGIN:VCALENDAR
VERSION:2.0
PRODID:-//EBSN - ECPv5.1.6//NONSGML v1.0//EN
CALSCALE:GREGORIAN
METHOD:PUBLISH
X-WR-CALNAME:EBSN
X-ORIGINAL-URL:https://basicskills.eu
X-WR-CALDESC:Events for EBSN
BEGIN:VTIMEZONE
TZID:Europe/Budapest
BEGIN:DAYLIGHT
TZOFFSETFROM:+0100
TZOFFSETTO:+0200
TZNAME:CEST
DTSTART:20150329T010000
END:DAYLIGHT
BEGIN:STANDARD
TZOFFSETFROM:+0200
TZOFFSETTO:+0100
TZNAME:CET
DTSTART:20151025T010000
END:STANDARD
END:VTIMEZONE
BEGIN:VEVENT
DTSTART;VALUE=DATE:20151117
DTEND;VALUE=DATE:20151120
DTSTAMP:20260420T053652
CREATED:20150710T092213Z
LAST-MODIFIED:20150710T092213Z
UID:4963-1447718400-1447977599@basicskills.eu
SUMMARY:3rd European Health Literacy Conference
DESCRIPTION:
URL:https://basicskills.eu/event/3rd-european-health-literacy-conference/
LOCATION:Management Centre Europe\, Rue de l'Aqueduc 118\, Brussels\, Ixelles \, 1050\, Belgium
GEO:50.823806;4.3612889
X-APPLE-STRUCTURED-LOCATION;VALUE=URI;X-ADDRESS=Management Centre Europe Rue de l'Aqueduc 118 Brussels Ixelles  1050 Belgium;X-APPLE-RADIUS=500;X-TITLE=Rue de l'Aqueduc 118:geo:4.3612889,50.823806
END:VEVENT
END:VCALENDAR