BEGIN:VCALENDAR
VERSION:2.0
PRODID:-//EBSN - ECPv5.1.6//NONSGML v1.0//EN
CALSCALE:GREGORIAN
METHOD:PUBLISH
X-WR-CALNAME:EBSN
X-ORIGINAL-URL:https://basicskills.eu
X-WR-CALDESC:Events for EBSN
BEGIN:VTIMEZONE
TZID:Europe/Budapest
BEGIN:DAYLIGHT
TZOFFSETFROM:+0100
TZOFFSETTO:+0200
TZNAME:CEST
DTSTART:20170326T010000
END:DAYLIGHT
BEGIN:STANDARD
TZOFFSETFROM:+0200
TZOFFSETTO:+0100
TZNAME:CET
DTSTART:20171029T010000
END:STANDARD
END:VTIMEZONE
BEGIN:VEVENT
DTSTART;VALUE=DATE:20171128
DTEND;VALUE=DATE:20171130
DTSTAMP:20260422T153810
CREATED:20170717T065513Z
LAST-MODIFIED:20170717T065513Z
UID:6096-1511827200-1511999999@basicskills.eu
SUMMARY:2nd International Conference: Literacy and Contemporary Society: Spaces\, Discourses\, Practices
DESCRIPTION:
URL:https://basicskills.eu/event/2nd-international-conference-literacy-and-contemporary-society-spaces-discourses-practices/
LOCATION:“Filoxenia” Conference Centre\, Nicosia\, Cyprus\, Nicosia\, Cyprus
GEO:35.1855659;33.3822764
END:VEVENT
END:VCALENDAR