BEGIN:VCALENDAR
VERSION:2.0
PRODID:-//EBSN - ECPv5.1.6//NONSGML v1.0//EN
CALSCALE:GREGORIAN
METHOD:PUBLISH
X-WR-CALNAME:EBSN
X-ORIGINAL-URL:https://basicskills.eu
X-WR-CALDESC:Events for EBSN
BEGIN:VTIMEZONE
TZID:Europe/Budapest
BEGIN:DAYLIGHT
TZOFFSETFROM:+0100
TZOFFSETTO:+0200
TZNAME:CEST
DTSTART:20180325T010000
END:DAYLIGHT
BEGIN:STANDARD
TZOFFSETFROM:+0200
TZOFFSETTO:+0100
TZNAME:CET
DTSTART:20181028T010000
END:STANDARD
END:VTIMEZONE
BEGIN:VEVENT
DTSTART;VALUE=DATE:20180617
DTEND;VALUE=DATE:20180621
DTSTAMP:20260422T215009
CREATED:20171103T132728Z
LAST-MODIFIED:20171103T132742Z
UID:6172-1529193600-1529539199@basicskills.eu
SUMMARY:27th EDEN Annual Conference: Exploring the Micro\, Meso and Macro
DESCRIPTION:
URL:https://basicskills.eu/event/27th-eden-annual-conference-exploring-the-micro-meso-and-macro/
LOCATION:Albergo dei Poveri Building\, Piazzale Emanuele Brignole\, 16136 Genova\, Italy\, Albergo dei Poveri Building\, Piazzale Emanuele Brignole\,\, Genova\, 16136\, Italy
GEO:44.4174876;8.9290853
X-APPLE-STRUCTURED-LOCATION;VALUE=URI;X-ADDRESS=Albergo dei Poveri Building Piazzale Emanuele Brignole 16136 Genova Italy Albergo dei Poveri Building Piazzale Emanuele Brignole Genova 16136 Italy;X-APPLE-RADIUS=500;X-TITLE=Albergo dei Poveri Building\, Piazzale Emanuele Brignole\,:geo:8.9290853,44.4174876
END:VEVENT
END:VCALENDAR