BEGIN:VCALENDAR
VERSION:2.0
PRODID:-//EBSN - ECPv5.1.6//NONSGML v1.0//EN
CALSCALE:GREGORIAN
METHOD:PUBLISH
X-WR-CALNAME:EBSN
X-ORIGINAL-URL:https://basicskills.eu
X-WR-CALDESC:Events for EBSN
BEGIN:VTIMEZONE
TZID:Europe/Budapest
BEGIN:DAYLIGHT
TZOFFSETFROM:+0100
TZOFFSETTO:+0200
TZNAME:CEST
DTSTART:20150329T010000
END:DAYLIGHT
BEGIN:STANDARD
TZOFFSETFROM:+0200
TZOFFSETTO:+0100
TZNAME:CET
DTSTART:20151025T010000
END:STANDARD
END:VTIMEZONE
BEGIN:VEVENT
DTSTART;VALUE=DATE:20151116
DTEND;VALUE=DATE:20151118
DTSTAMP:20260420T035439
CREATED:20150710T091816Z
LAST-MODIFIED:20150710T091816Z
UID:4960-1447632000-1447804799@basicskills.eu
SUMMARY:2015 EUCEN autumn seminar Innovations and practices in evaluation
DESCRIPTION:
URL:https://basicskills.eu/event/2015-eucen-autumn-seminar-innovations-and-practices-in-evaluation/
LOCATION:Université Libre de Bruxelles (ULB) Campus du Solbosch (building S) Av. F. D.\, Roosevelt\, 50\, Brussels\, 1050\, Belgium
GEO:50.8132068;4.3822222
X-APPLE-STRUCTURED-LOCATION;VALUE=URI;X-ADDRESS=Université Libre de Bruxelles (ULB) Campus du Solbosch (building S) Av. F. D. Roosevelt 50 Brussels 1050 Belgium;X-APPLE-RADIUS=500;X-TITLE=Roosevelt\, 50:geo:4.3822222,50.8132068
END:VEVENT
END:VCALENDAR