BEGIN:VCALENDAR
VERSION:2.0
PRODID:-//EBSN - ECPv5.1.6//NONSGML v1.0//EN
CALSCALE:GREGORIAN
METHOD:PUBLISH
X-WR-CALNAME:EBSN
X-ORIGINAL-URL:https://basicskills.eu
X-WR-CALDESC:Events for EBSN
BEGIN:VTIMEZONE
TZID:Europe/Budapest
BEGIN:DAYLIGHT
TZOFFSETFROM:+0100
TZOFFSETTO:+0200
TZNAME:CEST
DTSTART:20150329T010000
END:DAYLIGHT
BEGIN:STANDARD
TZOFFSETFROM:+0200
TZOFFSETTO:+0100
TZNAME:CET
DTSTART:20151025T010000
END:STANDARD
END:VTIMEZONE
BEGIN:VEVENT
DTSTART;VALUE=DATE:20150713
DTEND;VALUE=DATE:20150717
DTSTAMP:20260420T085139
CREATED:20150528T115501Z
LAST-MODIFIED:20150528T124343Z
UID:4634-1436745600-1437091199@basicskills.eu
SUMMARY:19th European Conference on Literacy 2015 Literacy in the New Landscape of Communication
DESCRIPTION:
URL:https://basicskills.eu/event/19th-european-conference-on-literacy-2015-literacy-in-the-new-landscape-of-communication/
LOCATION:Alpen-Adria-Universität\, Klagenfurt\, Austria
GEO:46.6364598;14.3122246
END:VEVENT
END:VCALENDAR